BEGIN:VCALENDAR
VERSION:2.0
PRODID:-//C.St.V. Salia Babenberg in der VCS - ECPv6.10.1.1//NONSGML v1.0//EN
CALSCALE:GREGORIAN
METHOD:PUBLISH
X-WR-CALNAME:C.St.V. Salia Babenberg in der VCS
X-ORIGINAL-URL:https://www.salia-babenberg.org
X-WR-CALDESC:Veranstaltungen für C.St.V. Salia Babenberg in der VCS
REFRESH-INTERVAL;VALUE=DURATION:PT1H
X-Robots-Tag:noindex
X-PUBLISHED-TTL:PT1H
BEGIN:VTIMEZONE
TZID:Europe/Vienna
BEGIN:DAYLIGHT
TZOFFSETFROM:+0100
TZOFFSETTO:+0200
TZNAME:CEST
DTSTART:20240331T010000
END:DAYLIGHT
BEGIN:STANDARD
TZOFFSETFROM:+0200
TZOFFSETTO:+0100
TZNAME:CET
DTSTART:20241027T010000
END:STANDARD
END:VTIMEZONE
BEGIN:VEVENT
DTSTART;TZID=Europe/Vienna:20241005T193000
DTEND;TZID=Europe/Vienna:20241005T193000
DTSTAMP:20260421T020518
CREATED:20240905T153213Z
LAST-MODIFIED:20240905T153216Z
UID:763-1728156600-1728156600@www.salia-babenberg.org
SUMMARY:Antrittskreuzkneipe mit KAV Danubia Wien-Korneuburg
DESCRIPTION:Bude Danubiae – Rathausstraße 13\,\n1010 Wien
URL:https://www.salia-babenberg.org/event/antrittskreuzkneipe-mit-kav-danubia-wien-korneuburg/
LOCATION:Bude Danubiae\, Rathausstraße 13\, Wien\, 1010\, Austria
END:VEVENT
BEGIN:VEVENT
DTSTART;TZID=Europe/Vienna:20241012T153000
DTEND;TZID=Europe/Vienna:20241012T170000
DTSTAMP:20260421T020518
CREATED:20240905T153300Z
LAST-MODIFIED:20240905T153300Z
UID:765-1728747000-1728752400@www.salia-babenberg.org
SUMMARY:AC - Führung in der spanischen Hofreitschule
DESCRIPTION:Wir bitten um Pünktlichkeit !\nTreffpunkt: Michaelerplatz\nEingang spanische Hofreitschule\nAnmeldungen: bis 19.9.2024 beim ChC
URL:https://www.salia-babenberg.org/event/ac-fuehrung-in-der-spanischen-hofreitschule/
END:VEVENT
BEGIN:VEVENT
DTSTART;TZID=Europe/Vienna:20241016T190000
DTEND;TZID=Europe/Vienna:20241016T200000
DTSTAMP:20260421T020518
CREATED:20240905T153448Z
LAST-MODIFIED:20240905T153448Z
UID:767-1729105200-1729108800@www.salia-babenberg.org
SUMMARY:1. ordentlicher Vereinsconvent
DESCRIPTION:s.t. plen. col. off.\nBude
URL:https://www.salia-babenberg.org/event/1-ordentlicher-vereinsconvent/
END:VEVENT
END:VCALENDAR