BEGIN:VCALENDAR
VERSION:2.0
PRODID:-//C.St.V. Salia Babenberg in der VCS - ECPv6.10.1.1//NONSGML v1.0//EN
CALSCALE:GREGORIAN
METHOD:PUBLISH
X-WR-CALNAME:C.St.V. Salia Babenberg in der VCS
X-ORIGINAL-URL:https://www.salia-babenberg.org
X-WR-CALDESC:Veranstaltungen für C.St.V. Salia Babenberg in der VCS
REFRESH-INTERVAL;VALUE=DURATION:PT1H
X-Robots-Tag:noindex
X-PUBLISHED-TTL:PT1H
BEGIN:VTIMEZONE
TZID:Europe/Vienna
BEGIN:DAYLIGHT
TZOFFSETFROM:+0100
TZOFFSETTO:+0200
TZNAME:CEST
DTSTART:20240331T010000
END:DAYLIGHT
BEGIN:STANDARD
TZOFFSETFROM:+0200
TZOFFSETTO:+0100
TZNAME:CET
DTSTART:20241027T010000
END:STANDARD
END:VTIMEZONE
BEGIN:VEVENT
DTSTART;VALUE=DATE:20240113
DTEND;VALUE=DATE:20240114
DTSTAMP:20260423T124827
CREATED:20230917T110142Z
LAST-MODIFIED:20230917T110142Z
UID:733-1705104000-1705190399@www.salia-babenberg.org
SUMMARY:Eiderneuerung
DESCRIPTION:int.\, plen.col.\, hoff.
URL:https://www.salia-babenberg.org/event/eiderneuerung-4/
CATEGORIES:hoff.,intern,plen.col.
END:VEVENT
BEGIN:VEVENT
DTSTART;TZID=Europe/Vienna:20240117T190000
DTEND;TZID=Europe/Vienna:20240117T210000
DTSTAMP:20260423T124827
CREATED:20230917T110325Z
LAST-MODIFIED:20230917T110325Z
UID:734-1705518000-1705525200@www.salia-babenberg.org
SUMMARY:4. o. VC
DESCRIPTION:int.\, off.
URL:https://www.salia-babenberg.org/event/4-o-vc-4/
LOCATION:Bude Saliae\, Volksgartenstraße 5/2/5\, Wien\, 1010\, Austria
CATEGORIES:intern,off.
END:VEVENT
END:VCALENDAR