BEGIN:VCALENDAR
VERSION:2.0
PRODID:-//C.St.V. Salia Babenberg in der VCS - ECPv6.10.1.1//NONSGML v1.0//EN
CALSCALE:GREGORIAN
METHOD:PUBLISH
X-ORIGINAL-URL:https://www.salia-babenberg.org
X-WR-CALDESC:Veranstaltungen für C.St.V. Salia Babenberg in der VCS
REFRESH-INTERVAL;VALUE=DURATION:PT1H
X-Robots-Tag:noindex
X-PUBLISHED-TTL:PT1H
BEGIN:VTIMEZONE
TZID:Europe/Vienna
BEGIN:DAYLIGHT
TZOFFSETFROM:+0100
TZOFFSETTO:+0200
TZNAME:CEST
DTSTART:20230326T010000
END:DAYLIGHT
BEGIN:STANDARD
TZOFFSETFROM:+0200
TZOFFSETTO:+0100
TZNAME:CET
DTSTART:20231029T010000
END:STANDARD
END:VTIMEZONE
BEGIN:VEVENT
DTSTART;TZID=Europe/Vienna:20230304T180000
DTEND;TZID=Europe/Vienna:20230304T180000
DTSTAMP:20260424T013117
CREATED:20230303T103758Z
LAST-MODIFIED:20230303T103758Z
UID:633-1677952800-1677952800@www.salia-babenberg.org
SUMMARY:Fastenkulinarium "Fastensuppe & Bockbier" mit e.v. Prima Vindobonensis im VfM
DESCRIPTION:
URL:https://www.salia-babenberg.org/event/fastenkulinarium-fastensuppe-bockbier-mit-e-v-prima-vindobonensis-im-vfm/
LOCATION:Bude Prima Vindobonensis im VfM\, Berggasse 8/sout\, Wien\, 1090\, Austria
CATEGORIES:plen.col.
END:VEVENT
BEGIN:VEVENT
DTSTART;TZID=Europe/Vienna:20230307T190000
DTEND;TZID=Europe/Vienna:20230307T190000
DTSTAMP:20260424T013117
CREATED:20230303T103902Z
LAST-MODIFIED:20230303T103939Z
UID:637-1678215600-1678215600@www.salia-babenberg.org
SUMMARY:1. o.VC. (intern)
DESCRIPTION:
URL:https://www.salia-babenberg.org/event/1-o-vc-intern/
CATEGORIES:intern
END:VEVENT
BEGIN:VEVENT
DTSTART;TZID=Europe/Vienna:20230309T190000
DTEND;TZID=Europe/Vienna:20230309T210000
DTSTAMP:20260424T013117
CREATED:20230303T104105Z
LAST-MODIFIED:20230303T104105Z
UID:639-1678388400-1678395600@www.salia-babenberg.org
SUMMARY:VCS Diskussion "Frauen in Welt und Kirche"
DESCRIPTION:
URL:https://www.salia-babenberg.org/event/vcs-diskussion-frauen-in-welt-und-kirche/
LOCATION:Rektorsaal der Karlskirche\, Kreuzherrengasse 1\, Wien\, 1040\, Austria
CATEGORIES:off.,plen.col.
END:VEVENT
BEGIN:VEVENT
DTSTART;TZID=Europe/Vienna:20230311T180000
DTEND;TZID=Europe/Vienna:20230311T210000
DTSTAMP:20260424T013117
CREATED:20230303T104243Z
LAST-MODIFIED:20230303T104243Z
UID:642-1678557600-1678568400@www.salia-babenberg.org
SUMMARY:Fuchsia-Abendessen + Karaoke mit BbW-Fuchsia
DESCRIPTION:
URL:https://www.salia-babenberg.org/event/fuchsia-abendessen-karaoke-mit-bbw-fuchsia/
LOCATION:Sing your Song\, Eschenbachgasse 5\, Wien\, 1060\, Austria
CATEGORIES:ad.lib.
END:VEVENT
BEGIN:VEVENT
DTSTART;TZID=Europe/Vienna:20230315T180000
DTEND;TZID=Europe/Vienna:20230315T193000
DTSTAMP:20260424T013117
CREATED:20230303T104349Z
LAST-MODIFIED:20230303T104349Z
UID:645-1678903200-1678908600@www.salia-babenberg.org
SUMMARY:Blickwinkel-Gottesdienst
DESCRIPTION:
URL:https://www.salia-babenberg.org/event/blickwinkel-gottesdienst/
LOCATION:Lutherische Stadtkirche\, Wien\, Austria
CATEGORIES:off.,plen.col.
END:VEVENT
BEGIN:VEVENT
DTSTART;VALUE=DATE:20230317
DTEND;VALUE=DATE:20230320
DTSTAMP:20260424T013117
CREATED:20230303T104826Z
LAST-MODIFIED:20230303T104826Z
UID:656-1679011200-1679270399@www.salia-babenberg.org
SUMMARY:SDC Schulung
DESCRIPTION:
URL:https://www.salia-babenberg.org/event/sdc-schulung/
LOCATION:Innsbruck
CATEGORIES:ad.lib.
END:VEVENT
BEGIN:VEVENT
DTSTART;TZID=Europe/Vienna:20230319T100000
DTEND;TZID=Europe/Vienna:20230319T170000
DTSTAMP:20260424T013117
CREATED:20230303T104453Z
LAST-MODIFIED:20230303T104453Z
UID:648-1679220000-1679245200@www.salia-babenberg.org
SUMMARY:VCS-Vollversammlung
DESCRIPTION:
URL:https://www.salia-babenberg.org/event/vcs-vollversammlung/
CATEGORIES:intern,off.,plen.col.
END:VEVENT
BEGIN:VEVENT
DTSTART;TZID=Europe/Vienna:20230322T190000
DTEND;TZID=Europe/Vienna:20230322T210000
DTSTAMP:20260424T013117
CREATED:20230303T104609Z
LAST-MODIFIED:20230303T104609Z
UID:650-1679511600-1679518800@www.salia-babenberg.org
SUMMARY:Besuch im Musikverein
DESCRIPTION:
URL:https://www.salia-babenberg.org/event/besuch-im-musikverein/
LOCATION:Musikverein\, Musikvereinplatz 1\, Wien\, 1010\, Austria
CATEGORIES:ad.lib.,sin. col.
END:VEVENT
BEGIN:VEVENT
DTSTART;TZID=Europe/Vienna:20230331T180000
DTEND;TZID=Europe/Vienna:20230331T220000
DTSTAMP:20260424T013117
CREATED:20230303T104732Z
LAST-MODIFIED:20230303T104732Z
UID:653-1680285600-1680300000@www.salia-babenberg.org
SUMMARY:VCS-Osterbesinnung\, anschl. Osterfestkneipe
DESCRIPTION:
URL:https://www.salia-babenberg.org/event/vcs-osterbesinnung-anschl-osterfestkneipe/
LOCATION:Bude Rugia Wien\, Lichtenfelsgasse 1\, Wien\, 1010\, Austria
CATEGORIES:off.,plen.col.
END:VEVENT
END:VCALENDAR