BEGIN:VCALENDAR
VERSION:2.0
PRODID:-//C.St.V. Salia Babenberg in der VCS - ECPv6.10.1.1//NONSGML v1.0//EN
CALSCALE:GREGORIAN
METHOD:PUBLISH
X-ORIGINAL-URL:https://www.salia-babenberg.org
X-WR-CALDESC:Veranstaltungen für C.St.V. Salia Babenberg in der VCS
REFRESH-INTERVAL;VALUE=DURATION:PT1H
X-Robots-Tag:noindex
X-PUBLISHED-TTL:PT1H
BEGIN:VTIMEZONE
TZID:Europe/Vienna
BEGIN:DAYLIGHT
TZOFFSETFROM:+0100
TZOFFSETTO:+0200
TZNAME:CEST
DTSTART:20230326T010000
END:DAYLIGHT
BEGIN:STANDARD
TZOFFSETFROM:+0200
TZOFFSETTO:+0100
TZNAME:CET
DTSTART:20231029T010000
END:STANDARD
END:VTIMEZONE
BEGIN:VEVENT
DTSTART;TZID=Europe/Vienna:20230113T193000
DTEND;TZID=Europe/Vienna:20230113T220000
DTSTAMP:20260424T035159
CREATED:20220917T094152Z
LAST-MODIFIED:20220917T094152Z
UID:617-1673638200-1673647200@www.salia-babenberg.org
SUMMARY:Begrüßungsabend der Eiderneuerung
DESCRIPTION:
URL:https://www.salia-babenberg.org/event/begruessungsabend-der-eiderneuerung/
LOCATION:1_Bude Saliae\, Volksgartenstraße 5/2/5\, Wien\, 1010\, Austria
CATEGORIES:plen.col.
END:VEVENT
BEGIN:VEVENT
DTSTART;TZID=Europe/Vienna:20230114T193000
DTEND;TZID=Europe/Vienna:20230114T230000
DTSTAMP:20260424T035159
CREATED:20220917T094314Z
LAST-MODIFIED:20220917T094314Z
UID:619-1673724600-1673737200@www.salia-babenberg.org
SUMMARY:Eiderneuerung
DESCRIPTION:Programm für das Wochenende wird gesondert ausgesendet
URL:https://www.salia-babenberg.org/event/eiderneuerung-3/
LOCATION:1_Bude Saliae\, Volksgartenstraße 5/2/5\, Wien\, 1010\, Austria
CATEGORIES:hoff.,intern,plen.col.
END:VEVENT
BEGIN:VEVENT
DTSTART;TZID=Europe/Vienna:20230117T190000
DTEND;TZID=Europe/Vienna:20230117T210000
DTSTAMP:20260424T035159
CREATED:20220917T094426Z
LAST-MODIFIED:20220917T094426Z
UID:621-1673982000-1673989200@www.salia-babenberg.org
SUMMARY:4. o.VC
DESCRIPTION:
URL:https://www.salia-babenberg.org/event/4-o-vc-3/
LOCATION:1_Bude Saliae\, Volksgartenstraße 5/2/5\, Wien\, 1010\, Austria
CATEGORIES:intern,off.,plen.col.
END:VEVENT
BEGIN:VEVENT
DTSTART;TZID=Europe/Vienna:20230119T190000
DTEND;TZID=Europe/Vienna:20230119T210000
DTSTAMP:20260424T035159
CREATED:20220917T094520Z
LAST-MODIFIED:20220917T094520Z
UID:623-1674154800-1674162000@www.salia-babenberg.org
SUMMARY:AC zum Thema Steuern
DESCRIPTION:
URL:https://www.salia-babenberg.org/event/ac-zum-thema-steuern/
CATEGORIES:off.,plen.col.
END:VEVENT
END:VCALENDAR