BEGIN:VCALENDAR
VERSION:2.0
PRODID:-//C.St.V. Salia Babenberg in der VCS - ECPv6.10.1.1//NONSGML v1.0//EN
CALSCALE:GREGORIAN
METHOD:PUBLISH
X-ORIGINAL-URL:https://www.salia-babenberg.org
X-WR-CALDESC:Veranstaltungen für C.St.V. Salia Babenberg in der VCS
REFRESH-INTERVAL;VALUE=DURATION:PT1H
X-Robots-Tag:noindex
X-PUBLISHED-TTL:PT1H
BEGIN:VTIMEZONE
TZID:Europe/Vienna
BEGIN:DAYLIGHT
TZOFFSETFROM:+0100
TZOFFSETTO:+0200
TZNAME:CEST
DTSTART:20220327T010000
END:DAYLIGHT
BEGIN:STANDARD
TZOFFSETFROM:+0200
TZOFFSETTO:+0100
TZNAME:CET
DTSTART:20221030T010000
END:STANDARD
END:VTIMEZONE
BEGIN:VEVENT
DTSTART;TZID=Europe/Vienna:20221105T151500
DTEND;TZID=Europe/Vienna:20221105T173000
DTSTAMP:20260424T061352
CREATED:20220917T080137Z
LAST-MODIFIED:20220917T080928Z
UID:598-1667661300-1667669400@www.salia-babenberg.org
SUMMARY:AC: Führung durch das Parlament:  "Parlamentarismus und Frauen"
DESCRIPTION:Anmeldungen bis 01. November an\nxx@salia-babenberg.org
URL:https://www.salia-babenberg.org/event/ac-fuehrung-durch-das-parlament-parlamentarismus-und-frauen/
LOCATION:Volksgartenstraße 5/2/5\, Wien\, 1010\, Austria
CATEGORIES:off.
END:VEVENT
BEGIN:VEVENT
DTSTART;TZID=Europe/Vienna:20221110T190000
DTEND;TZID=Europe/Vienna:20221110T210000
DTSTAMP:20260424T061352
CREATED:20220917T081020Z
LAST-MODIFIED:20220917T081020Z
UID:604-1668106800-1668114000@www.salia-babenberg.org
SUMMARY:2. o.VC
DESCRIPTION:
URL:https://www.salia-babenberg.org/event/2-o-vc-6/
CATEGORIES:intern,off.,plen.col.
END:VEVENT
BEGIN:VEVENT
DTSTART;VALUE=DATE:20221111
DTEND;VALUE=DATE:20221114
DTSTAMP:20260424T061352
CREATED:20220917T081134Z
LAST-MODIFIED:20220917T081134Z
UID:607-1668124800-1668383999@www.salia-babenberg.org
SUMMARY:Stiftungsfest-Wochenende e.v. K.H.V. Babenberg Wien
DESCRIPTION:gesonderte Einladung der K.H.V. Babenberg Wien
URL:https://www.salia-babenberg.org/event/stiftungsfest-wochenende-e-v-k-h-v-babenberg-wien/
LOCATION:1_Bude Saliae\, Volksgartenstraße 5/2/5\, Wien\, 1010\, Austria
END:VEVENT
BEGIN:VEVENT
DTSTART;TZID=Europe/Vienna:20221126T193000
DTEND;TZID=Europe/Vienna:20221126T230000
DTSTAMP:20260424T061352
CREATED:20220917T081249Z
LAST-MODIFIED:20220917T081249Z
UID:609-1669491000-1669503600@www.salia-babenberg.org
SUMMARY:Fuchsenkneipe mit e.v. AV Stella Vindelicia
DESCRIPTION:in Innsbruck
URL:https://www.salia-babenberg.org/event/fuchsenkneipe-mit-e-v-av-stella-vindelicia/
CATEGORIES:plen.col.
END:VEVENT
END:VCALENDAR