BEGIN:VCALENDAR
VERSION:2.0
PRODID:-//C.St.V. Salia Babenberg in der VCS - ECPv6.10.1.1//NONSGML v1.0//EN
CALSCALE:GREGORIAN
METHOD:PUBLISH
X-ORIGINAL-URL:https://www.salia-babenberg.org
X-WR-CALDESC:Veranstaltungen für C.St.V. Salia Babenberg in der VCS
REFRESH-INTERVAL;VALUE=DURATION:PT1H
X-Robots-Tag:noindex
X-PUBLISHED-TTL:PT1H
BEGIN:VTIMEZONE
TZID:Europe/Vienna
BEGIN:DAYLIGHT
TZOFFSETFROM:+0100
TZOFFSETTO:+0200
TZNAME:CEST
DTSTART:20220327T010000
END:DAYLIGHT
BEGIN:STANDARD
TZOFFSETFROM:+0200
TZOFFSETTO:+0100
TZNAME:CET
DTSTART:20221030T010000
END:STANDARD
END:VTIMEZONE
BEGIN:VEVENT
DTSTART;TZID=Europe/Vienna:20221004T190000
DTEND;TZID=Europe/Vienna:20221004T210000
DTSTAMP:20260424T071910
CREATED:20220917T075526Z
LAST-MODIFIED:20220917T075526Z
UID:592-1664910000-1664917200@www.salia-babenberg.org
SUMMARY:1.o.VC
DESCRIPTION:
URL:https://www.salia-babenberg.org/event/1-o-vc-4/
CATEGORIES:intern,off.,plen.col.
END:VEVENT
BEGIN:VEVENT
DTSTART;TZID=Europe/Vienna:20221019T190000
DTEND;TZID=Europe/Vienna:20221019T220000
DTSTAMP:20260424T071910
CREATED:20220917T075621Z
LAST-MODIFIED:20220917T075621Z
UID:594-1666206000-1666216800@www.salia-babenberg.org
SUMMARY:AC: Christenverfolgung in Europa
DESCRIPTION:
URL:https://www.salia-babenberg.org/event/ac-christenverfolgung-in-europa/
CATEGORIES:off.,plen.col.
END:VEVENT
BEGIN:VEVENT
DTSTART;VALUE=DATE:20221031
DTEND;VALUE=DATE:20221101
DTSTAMP:20260424T071910
CREATED:20220917T075814Z
LAST-MODIFIED:20220917T080251Z
UID:596-1667174400-1667260799@www.salia-babenberg.org
SUMMARY:Harry Potter-Event
DESCRIPTION:
URL:https://www.salia-babenberg.org/event/harry-potter-event/
LOCATION:Volksgartenstraße 5/2/5\, Wien\, 1010\, Austria
CATEGORIES:ad.lib.
END:VEVENT
END:VCALENDAR