BEGIN:VCALENDAR
VERSION:2.0
PRODID:-//C.St.V. Salia Babenberg in der VCS - ECPv6.10.1.1//NONSGML v1.0//EN
CALSCALE:GREGORIAN
METHOD:PUBLISH
X-ORIGINAL-URL:https://www.salia-babenberg.org
X-WR-CALDESC:Veranstaltungen für C.St.V. Salia Babenberg in der VCS
REFRESH-INTERVAL;VALUE=DURATION:PT1H
X-Robots-Tag:noindex
X-PUBLISHED-TTL:PT1H
BEGIN:VTIMEZONE
TZID:Europe/Vienna
BEGIN:DAYLIGHT
TZOFFSETFROM:+0100
TZOFFSETTO:+0200
TZNAME:CEST
DTSTART:20230326T010000
END:DAYLIGHT
BEGIN:STANDARD
TZOFFSETFROM:+0200
TZOFFSETTO:+0100
TZNAME:CET
DTSTART:20231029T010000
END:STANDARD
BEGIN:DAYLIGHT
TZOFFSETFROM:+0100
TZOFFSETTO:+0200
TZNAME:CEST
DTSTART:20240331T010000
END:DAYLIGHT
BEGIN:STANDARD
TZOFFSETFROM:+0200
TZOFFSETTO:+0100
TZNAME:CET
DTSTART:20241027T010000
END:STANDARD
BEGIN:DAYLIGHT
TZOFFSETFROM:+0100
TZOFFSETTO:+0200
TZNAME:CEST
DTSTART:20250330T010000
END:DAYLIGHT
BEGIN:STANDARD
TZOFFSETFROM:+0200
TZOFFSETTO:+0100
TZNAME:CET
DTSTART:20251026T010000
END:STANDARD
END:VTIMEZONE
BEGIN:VEVENT
DTSTART;TZID=Europe/Vienna:20250628T103000
DTEND;TZID=Europe/Vienna:20250628T140000
DTSTAMP:20260419T200842
CREATED:20250223T184925Z
LAST-MODIFIED:20250223T184925Z
UID:805-1751106600-1751119200@www.salia-babenberg.org
SUMMARY:Brunch und Bewerbungsworkshop mit Bsr. Stella
DESCRIPTION:
URL:https://www.salia-babenberg.org/event/brunch-und-bewerbungsworkshop-mit-bsr-stella/
CATEGORIES:off.,plen.col.
END:VEVENT
BEGIN:VEVENT
DTSTART;TZID=Europe/Vienna:20250623T190000
DTEND;TZID=Europe/Vienna:20250623T220000
DTSTAMP:20260419T200842
CREATED:20250223T184853Z
LAST-MODIFIED:20250223T184853Z
UID:804-1750705200-1750716000@www.salia-babenberg.org
SUMMARY:3. VC (online)
DESCRIPTION:
URL:https://www.salia-babenberg.org/event/3-vc-online/
CATEGORIES:off.,plen.col.
END:VEVENT
BEGIN:VEVENT
DTSTART;TZID=Europe/Vienna:20250613T193000
DTEND;TZID=Europe/Vienna:20250613T230000
DTSTAMP:20260419T200842
CREATED:20250223T184829Z
LAST-MODIFIED:20250223T184829Z
UID:803-1749843000-1749855600@www.salia-babenberg.org
SUMMARY:Fuchsenkneipe
DESCRIPTION:
URL:https://www.salia-babenberg.org/event/fuchsenkneipe-2/
CATEGORIES:ad.lib.,plen.col.
END:VEVENT
BEGIN:VEVENT
DTSTART;TZID=Europe/Vienna:20250524T193000
DTEND;TZID=Europe/Vienna:20250524T230000
DTSTAMP:20260419T200842
CREATED:20250223T184805Z
LAST-MODIFIED:20250223T184805Z
UID:802-1748115000-1748127600@www.salia-babenberg.org
SUMMARY:Stiftungsfest im Martinsschlössl
DESCRIPTION:
URL:https://www.salia-babenberg.org/event/stiftungsfest-im-martinsschloessl/
CATEGORIES:hoff.,plen.col.
END:VEVENT
BEGIN:VEVENT
DTSTART;TZID=Europe/Vienna:20250521T190000
DTEND;TZID=Europe/Vienna:20250521T210000
DTSTAMP:20260419T200842
CREATED:20250223T184715Z
LAST-MODIFIED:20250223T184715Z
UID:801-1747854000-1747861200@www.salia-babenberg.org
SUMMARY:2. VC (online)
DESCRIPTION:
URL:https://www.salia-babenberg.org/event/2-vc-online/
CATEGORIES:off.,plen.col.
END:VEVENT
BEGIN:VEVENT
DTSTART;VALUE=DATE:20250503
DTEND;VALUE=DATE:20250504
DTSTAMP:20260419T200842
CREATED:20250223T184512Z
LAST-MODIFIED:20250223T184512Z
UID:800-1746230400-1746316799@www.salia-babenberg.org
SUMMARY:Parlamentsführung mit Abendessen und Maibowlenkneipe der BbW
DESCRIPTION:
URL:https://www.salia-babenberg.org/event/parlamentsfuehrung-mit-abendessen-und-maibowlenkneipe-der-bbw/
CATEGORIES:off.,plen.col.
END:VEVENT
BEGIN:VEVENT
DTSTART;TZID=Europe/Vienna:20250407T193000
DTEND;TZID=Europe/Vienna:20250407T220000
DTSTAMP:20260419T200842
CREATED:20250223T184321Z
LAST-MODIFIED:20250223T184321Z
UID:799-1744054200-1744063200@www.salia-babenberg.org
SUMMARY:Fastenbesinnung
DESCRIPTION:
URL:https://www.salia-babenberg.org/event/fastenbesinnung/
LOCATION:1_Bude Saliae\, Volksgartenstraße 5/2/5\, Wien\, 1010\, Austria
CATEGORIES:off.,plen.col.
END:VEVENT
BEGIN:VEVENT
DTSTART;TZID=Europe/Vienna:20250328T200000
DTEND;TZID=Europe/Vienna:20250328T233000
DTSTAMP:20260419T200842
CREATED:20250223T184203Z
LAST-MODIFIED:20250223T184226Z
UID:798-1743192000-1743204600@www.salia-babenberg.org
SUMMARY:Fuchsenparty
DESCRIPTION:
URL:https://www.salia-babenberg.org/event/fuchsenparty/
LOCATION:1_Bude Saliae\, Volksgartenstraße 5/2/5\, Wien\, 1010\, Austria
CATEGORIES:ad.lib.,plen.col.
END:VEVENT
BEGIN:VEVENT
DTSTART;TZID=Europe/Vienna:20250306T183000
DTEND;TZID=Europe/Vienna:20250306T190000
DTSTAMP:20260419T200842
CREATED:20250223T184129Z
LAST-MODIFIED:20250223T184129Z
UID:797-1741285800-1741287600@www.salia-babenberg.org
SUMMARY:1. VC
DESCRIPTION:
URL:https://www.salia-babenberg.org/event/1-vc-3/
LOCATION:1_Bude Saliae\, Volksgartenstraße 5/2/5\, Wien\, 1010\, Austria
CATEGORIES:intern,off.,plen.col.
END:VEVENT
BEGIN:VEVENT
DTSTART;TZID=Europe/Vienna:20250130T183000
DTEND;TZID=Europe/Vienna:20250130T200000
DTSTAMP:20260419T200842
CREATED:20240905T155859Z
LAST-MODIFIED:20240905T155859Z
UID:789-1738261800-1738267200@www.salia-babenberg.org
SUMMARY:AC - Tanzabend mit KAV Danubia Wien-Korneuburg
DESCRIPTION:s.t. plen. col. off.\nmit Capa SaB! X & Maverick Dan! FM\nBude Danubiae\nRathausstraße 13\, 1010 Wien
URL:https://www.salia-babenberg.org/event/ac-tanzabend-mit-kav-danubia-wien-korneuburg/
END:VEVENT
BEGIN:VEVENT
DTSTART;TZID=Europe/Vienna:20250125T193000
DTEND;TZID=Europe/Vienna:20250125T220000
DTSTAMP:20260419T200842
CREATED:20240905T155755Z
LAST-MODIFIED:20240905T155755Z
UID:787-1737833400-1737842400@www.salia-babenberg.org
SUMMARY:Cocktailabend mit C.oe.a.St.V. Elisabethina Wien
DESCRIPTION:c.t. plen. col. off.\nBude Elisabethinae\nBlechturmgasse 20\, 1040 Wien
URL:https://www.salia-babenberg.org/event/cocktailabend-mit-c-oe-a-st-v-elisabethina-wien/
END:VEVENT
BEGIN:VEVENT
DTSTART;TZID=Europe/Vienna:20250111T170000
DTEND;TZID=Europe/Vienna:20250111T200000
DTSTAMP:20260419T200842
CREATED:20240905T155631Z
LAST-MODIFIED:20240905T155631Z
UID:785-1736614800-1736625600@www.salia-babenberg.org
SUMMARY:Eiderneuerung
DESCRIPTION:plen. col. hoff.\nim Anschluss an die GV\nBude
URL:https://www.salia-babenberg.org/event/eiderneuerung-5/
END:VEVENT
BEGIN:VEVENT
DTSTART;TZID=Europe/Vienna:20250111T140000
DTEND;TZID=Europe/Vienna:20250111T170000
DTSTAMP:20260419T200842
CREATED:20240905T154604Z
LAST-MODIFIED:20240905T154604Z
UID:783-1736604000-1736614800@www.salia-babenberg.org
SUMMARY:1. Generalversammlung
DESCRIPTION:s.t. plen. col. hoff.\nEinladung folgt
URL:https://www.salia-babenberg.org/event/1-generalversammlung/
END:VEVENT
BEGIN:VEVENT
DTSTART;TZID=Europe/Vienna:20250110T180000
DTEND;TZID=Europe/Vienna:20250110T220000
DTSTAMP:20260419T200842
CREATED:20240905T154540Z
LAST-MODIFIED:20240905T154540Z
UID:781-1736532000-1736546400@www.salia-babenberg.org
SUMMARY:Begrüßungsabend und Besuch der Violette Redoute
DESCRIPTION:c.t. plen. col. ad lib.\nSektempfang mit anschließendem\nBesuch der Violette Redoute\nTreffpunkt: Bude
URL:https://www.salia-babenberg.org/event/begruessungsabend-und-besuch-der-violette-redoute/
END:VEVENT
BEGIN:VEVENT
DTSTART;TZID=Europe/Vienna:20241213T180000
DTEND;TZID=Europe/Vienna:20241213T200000
DTSTAMP:20260419T200842
CREATED:20240905T154515Z
LAST-MODIFIED:20240905T154515Z
UID:779-1734112800-1734120000@www.salia-babenberg.org
SUMMARY:Weihnachtsfeier
DESCRIPTION:s.t. plen. col. off.\nEinladung folgt
URL:https://www.salia-babenberg.org/event/weihnachtsfeier-2/
END:VEVENT
BEGIN:VEVENT
DTSTART;TZID=Europe/Vienna:20241212T190000
DTEND;TZID=Europe/Vienna:20241212T210000
DTSTAMP:20260419T200842
CREATED:20240905T154454Z
LAST-MODIFIED:20240905T154454Z
UID:777-1734030000-1734037200@www.salia-babenberg.org
SUMMARY:3. ordentlicher Vereinsconvent
DESCRIPTION:s.t. plen. col. off.\nBude
URL:https://www.salia-babenberg.org/event/3-ordentlicher-vereinsconvent/
END:VEVENT
BEGIN:VEVENT
DTSTART;VALUE=DATE:20241206
DTEND;VALUE=DATE:20241209
DTSTAMP:20260419T200842
CREATED:20240905T154427Z
LAST-MODIFIED:20240905T154427Z
UID:775-1733443200-1733702399@www.salia-babenberg.org
SUMMARY:Krambambulikreuzkneipe mit K.Ö.H.V Leopoldina Innsbruck
DESCRIPTION:6.-8.12.2024\nCouleurfahrt\nBude Leopoldinae Innsbruck\nBürgerstraße 10\, 6020 Innsbruck\nAnmeldung: bis 15.11.2024 beim ChC !\nAussendung folgt gesondert
URL:https://www.salia-babenberg.org/event/krambambulikreuzkneipe-mit-k-oe-h-v-leopoldina-innsbruck/
END:VEVENT
BEGIN:VEVENT
DTSTART;TZID=Europe/Vienna:20241122T200000
DTEND;TZID=Europe/Vienna:20241122T230000
DTSTAMP:20260419T200842
CREATED:20240905T154340Z
LAST-MODIFIED:20240905T154340Z
UID:773-1732305600-1732316400@www.salia-babenberg.org
SUMMARY:Black Friday Fuchsenparty mit C.Ö.St.V Arcadia
DESCRIPTION:c.t. plen. col. ad lib.\nBude Rugiae\nLichtenfelsgasse 1\, sout\, 1010 Wien\nDresscode: Black and White
URL:https://www.salia-babenberg.org/event/black-friday-fuchsenparty-mit-c-oe-st-v-arcadia/
END:VEVENT
BEGIN:VEVENT
DTSTART;TZID=Europe/Vienna:20241113T190000
DTEND;TZID=Europe/Vienna:20241113T200000
DTSTAMP:20260419T200842
CREATED:20240905T153739Z
LAST-MODIFIED:20240905T153739Z
UID:771-1731524400-1731528000@www.salia-babenberg.org
SUMMARY:2. ordentlicher Vereinsconvent
DESCRIPTION:s.t. plen. col. off.\nBude
URL:https://www.salia-babenberg.org/event/2-ordentlicher-vereinsconvent/
CATEGORIES:intern,off.
END:VEVENT
BEGIN:VEVENT
DTSTART;TZID=Europe/Vienna:20241107T183000
DTEND;TZID=Europe/Vienna:20241107T200000
DTSTAMP:20260419T200842
CREATED:20240905T153520Z
LAST-MODIFIED:20240905T153520Z
UID:769-1731004200-1731009600@www.salia-babenberg.org
SUMMARY:AC - Einführung ins Vereinsrecht
DESCRIPTION:Bude\nVortragender:\nProf. RA Mag. Alexander F. S. Putzendopler\,\nCl!\, Rd! et mult
URL:https://www.salia-babenberg.org/event/ac-einfuehrung-ins-vereinsrecht/
END:VEVENT
BEGIN:VEVENT
DTSTART;TZID=Europe/Vienna:20241016T190000
DTEND;TZID=Europe/Vienna:20241016T200000
DTSTAMP:20260419T200842
CREATED:20240905T153448Z
LAST-MODIFIED:20240905T153448Z
UID:767-1729105200-1729108800@www.salia-babenberg.org
SUMMARY:1. ordentlicher Vereinsconvent
DESCRIPTION:s.t. plen. col. off.\nBude
URL:https://www.salia-babenberg.org/event/1-ordentlicher-vereinsconvent/
END:VEVENT
BEGIN:VEVENT
DTSTART;TZID=Europe/Vienna:20241012T153000
DTEND;TZID=Europe/Vienna:20241012T170000
DTSTAMP:20260419T200842
CREATED:20240905T153300Z
LAST-MODIFIED:20240905T153300Z
UID:765-1728747000-1728752400@www.salia-babenberg.org
SUMMARY:AC - Führung in der spanischen Hofreitschule
DESCRIPTION:Wir bitten um Pünktlichkeit !\nTreffpunkt: Michaelerplatz\nEingang spanische Hofreitschule\nAnmeldungen: bis 19.9.2024 beim ChC
URL:https://www.salia-babenberg.org/event/ac-fuehrung-in-der-spanischen-hofreitschule/
END:VEVENT
BEGIN:VEVENT
DTSTART;TZID=Europe/Vienna:20241005T193000
DTEND;TZID=Europe/Vienna:20241005T193000
DTSTAMP:20260419T200842
CREATED:20240905T153213Z
LAST-MODIFIED:20240905T153216Z
UID:763-1728156600-1728156600@www.salia-babenberg.org
SUMMARY:Antrittskreuzkneipe mit KAV Danubia Wien-Korneuburg
DESCRIPTION:Bude Danubiae – Rathausstraße 13\,\n1010 Wien
URL:https://www.salia-babenberg.org/event/antrittskreuzkneipe-mit-kav-danubia-wien-korneuburg/
LOCATION:Bude Danubiae\, Rathausstraße 13\, Wien\, 1010\, Austria
END:VEVENT
BEGIN:VEVENT
DTSTART;TZID=Europe/Vienna:20240923T170000
DTEND;TZID=Europe/Vienna:20240923T190000
DTSTAMP:20260419T200842
CREATED:20240905T153125Z
LAST-MODIFIED:20240905T153125Z
UID:761-1727110800-1727118000@www.salia-babenberg.org
SUMMARY:Sagenwanderung durch Wien
DESCRIPTION:Treffpunkt: Pestsäule\nAnschließend Ausklang auf der Bude\nBei Schlechtwetter: Spieleabend adB
URL:https://www.salia-babenberg.org/event/sagenwanderung-durch-wien/
END:VEVENT
BEGIN:VEVENT
DTSTART;TZID=Europe/Vienna:20240203T110000
DTEND;TZID=Europe/Vienna:20240203T170000
DTSTAMP:20260419T200842
CREATED:20230917T110447Z
LAST-MODIFIED:20230917T110447Z
UID:735-1706958000-1706979600@www.salia-babenberg.org
SUMMARY:a.o. GV
DESCRIPTION:int.\, off.
URL:https://www.salia-babenberg.org/event/a-o-gv/
LOCATION:Bude Saliae\, Volksgartenstraße 5/2/5\, Wien\, 1010\, Austria
CATEGORIES:intern,off.
END:VEVENT
BEGIN:VEVENT
DTSTART;TZID=Europe/Vienna:20240202T190000
DTEND;TZID=Europe/Vienna:20240202T210000
DTSTAMP:20260419T200842
CREATED:20230917T110416Z
LAST-MODIFIED:20230917T110416Z
UID:748-1706900400-1706907600@www.salia-babenberg.org
SUMMARY:Abschlusskneipe mit e.v. KHV Babenberg Wien
DESCRIPTION:plen.col.\, off.
URL:https://www.salia-babenberg.org/event/abschlusskneipe-mit-e-v-khv-babenberg-wien/
CATEGORIES:off.,plen.col.
END:VEVENT
BEGIN:VEVENT
DTSTART;TZID=Europe/Vienna:20240117T190000
DTEND;TZID=Europe/Vienna:20240117T210000
DTSTAMP:20260419T200842
CREATED:20230917T110325Z
LAST-MODIFIED:20230917T110325Z
UID:734-1705518000-1705525200@www.salia-babenberg.org
SUMMARY:4. o. VC
DESCRIPTION:int.\, off.
URL:https://www.salia-babenberg.org/event/4-o-vc-4/
LOCATION:Bude Saliae\, Volksgartenstraße 5/2/5\, Wien\, 1010\, Austria
CATEGORIES:intern,off.
END:VEVENT
BEGIN:VEVENT
DTSTART;VALUE=DATE:20240113
DTEND;VALUE=DATE:20240114
DTSTAMP:20260419T200842
CREATED:20230917T110142Z
LAST-MODIFIED:20230917T110142Z
UID:733-1705104000-1705190399@www.salia-babenberg.org
SUMMARY:Eiderneuerung
DESCRIPTION:int.\, plen.col.\, hoff.
URL:https://www.salia-babenberg.org/event/eiderneuerung-4/
CATEGORIES:hoff.,intern,plen.col.
END:VEVENT
BEGIN:VEVENT
DTSTART;VALUE=DATE:20231216
DTEND;VALUE=DATE:20231217
DTSTAMP:20260419T200842
CREATED:20230917T110051Z
LAST-MODIFIED:20230917T110051Z
UID:732-1702684800-1702771199@www.salia-babenberg.org
SUMMARY:Weihnachtsfeier bei Bsr. Tara
DESCRIPTION:int.\,off. \nAnmeldung bis 9.12.
URL:https://www.salia-babenberg.org/event/weihnachtsfeier-bei-bsr-tara/
CATEGORIES:intern,off.
END:VEVENT
BEGIN:VEVENT
DTSTART;TZID=Europe/Vienna:20231204T190000
DTEND;TZID=Europe/Vienna:20231204T210000
DTSTAMP:20260419T200842
CREATED:20230917T105938Z
LAST-MODIFIED:20230917T105938Z
UID:731-1701716400-1701723600@www.salia-babenberg.org
SUMMARY:3. o. VC
DESCRIPTION:int\, off.
URL:https://www.salia-babenberg.org/event/3-o-vc-7/
LOCATION:Bude Saliae\, Volksgartenstraße 5/2/5\, Wien\, 1010\, Austria
CATEGORIES:intern,off.
END:VEVENT
END:VCALENDAR