BEGIN:VCALENDAR
VERSION:2.0
PRODID:-//C.St.V. Salia Babenberg in der VCS - ECPv6.10.1.1//NONSGML v1.0//EN
CALSCALE:GREGORIAN
METHOD:PUBLISH
X-WR-CALNAME:C.St.V. Salia Babenberg in der VCS
X-ORIGINAL-URL:https://www.salia-babenberg.org
X-WR-CALDESC:Veranstaltungen für C.St.V. Salia Babenberg in der VCS
REFRESH-INTERVAL;VALUE=DURATION:PT1H
X-Robots-Tag:noindex
X-PUBLISHED-TTL:PT1H
BEGIN:VTIMEZONE
TZID:Europe/Vienna
BEGIN:DAYLIGHT
TZOFFSETFROM:+0100
TZOFFSETTO:+0200
TZNAME:CEST
DTSTART:20250330T010000
END:DAYLIGHT
BEGIN:STANDARD
TZOFFSETFROM:+0200
TZOFFSETTO:+0100
TZNAME:CET
DTSTART:20251026T010000
END:STANDARD
END:VTIMEZONE
BEGIN:VEVENT
DTSTART;TZID=Europe/Vienna:20250613T193000
DTEND;TZID=Europe/Vienna:20250613T230000
DTSTAMP:20260420T112840
CREATED:20250223T184829Z
LAST-MODIFIED:20250223T184829Z
UID:803-1749843000-1749855600@www.salia-babenberg.org
SUMMARY:Fuchsenkneipe
DESCRIPTION:
URL:https://www.salia-babenberg.org/event/fuchsenkneipe-2/
CATEGORIES:ad.lib.,plen.col.
END:VEVENT
END:VCALENDAR