BEGIN:VCALENDAR
VERSION:2.0
PRODID:-//C.St.V. Salia Babenberg in der VCS - ECPv6.10.1.1//NONSGML v1.0//EN
CALSCALE:GREGORIAN
METHOD:PUBLISH
X-ORIGINAL-URL:https://www.salia-babenberg.org
X-WR-CALDESC:Veranstaltungen für C.St.V. Salia Babenberg in der VCS
REFRESH-INTERVAL;VALUE=DURATION:PT1H
X-Robots-Tag:noindex
X-PUBLISHED-TTL:PT1H
BEGIN:VTIMEZONE
TZID:Europe/Vienna
BEGIN:DAYLIGHT
TZOFFSETFROM:+0100
TZOFFSETTO:+0200
TZNAME:CEST
DTSTART:20250330T010000
END:DAYLIGHT
BEGIN:STANDARD
TZOFFSETFROM:+0200
TZOFFSETTO:+0100
TZNAME:CET
DTSTART:20251026T010000
END:STANDARD
END:VTIMEZONE
BEGIN:VEVENT
DTSTART;TZID=Europe/Vienna:20250130T183000
DTEND;TZID=Europe/Vienna:20250130T200000
DTSTAMP:20260420T174254
CREATED:20240905T155859Z
LAST-MODIFIED:20240905T155859Z
UID:789-1738261800-1738267200@www.salia-babenberg.org
SUMMARY:AC - Tanzabend mit KAV Danubia Wien-Korneuburg
DESCRIPTION:s.t. plen. col. off.\nmit Capa SaB! X & Maverick Dan! FM\nBude Danubiae\nRathausstraße 13\, 1010 Wien
URL:https://www.salia-babenberg.org/event/ac-tanzabend-mit-kav-danubia-wien-korneuburg/
END:VEVENT
END:VCALENDAR