BEGIN:VCALENDAR
VERSION:2.0
PRODID:-//C.St.V. Salia Babenberg in der VCS - ECPv6.10.1.1//NONSGML v1.0//EN
CALSCALE:GREGORIAN
METHOD:PUBLISH
X-WR-CALNAME:C.St.V. Salia Babenberg in der VCS
X-ORIGINAL-URL:https://www.salia-babenberg.org
X-WR-CALDESC:Veranstaltungen für C.St.V. Salia Babenberg in der VCS
REFRESH-INTERVAL;VALUE=DURATION:PT1H
X-Robots-Tag:noindex
X-PUBLISHED-TTL:PT1H
BEGIN:VTIMEZONE
TZID:Europe/Vienna
BEGIN:DAYLIGHT
TZOFFSETFROM:+0100
TZOFFSETTO:+0200
TZNAME:CEST
DTSTART:20250330T010000
END:DAYLIGHT
BEGIN:STANDARD
TZOFFSETFROM:+0200
TZOFFSETTO:+0100
TZNAME:CET
DTSTART:20251026T010000
END:STANDARD
END:VTIMEZONE
BEGIN:VEVENT
DTSTART;TZID=Europe/Vienna:20250125T193000
DTEND;TZID=Europe/Vienna:20250125T220000
DTSTAMP:20260420T191532
CREATED:20240905T155755Z
LAST-MODIFIED:20240905T155755Z
UID:787-1737833400-1737842400@www.salia-babenberg.org
SUMMARY:Cocktailabend mit C.oe.a.St.V. Elisabethina Wien
DESCRIPTION:c.t. plen. col. off.\nBude Elisabethinae\nBlechturmgasse 20\, 1040 Wien
URL:https://www.salia-babenberg.org/event/cocktailabend-mit-c-oe-a-st-v-elisabethina-wien/
END:VEVENT
END:VCALENDAR