BEGIN:VCALENDAR
VERSION:2.0
PRODID:-//C.St.V. Salia Babenberg in der VCS - ECPv6.10.1.1//NONSGML v1.0//EN
CALSCALE:GREGORIAN
METHOD:PUBLISH
X-ORIGINAL-URL:https://www.salia-babenberg.org
X-WR-CALDESC:Veranstaltungen für C.St.V. Salia Babenberg in der VCS
REFRESH-INTERVAL;VALUE=DURATION:PT1H
X-Robots-Tag:noindex
X-PUBLISHED-TTL:PT1H
BEGIN:VTIMEZONE
TZID:Europe/Vienna
BEGIN:DAYLIGHT
TZOFFSETFROM:+0100
TZOFFSETTO:+0200
TZNAME:CEST
DTSTART:20250330T010000
END:DAYLIGHT
BEGIN:STANDARD
TZOFFSETFROM:+0200
TZOFFSETTO:+0100
TZNAME:CET
DTSTART:20251026T010000
END:STANDARD
END:VTIMEZONE
BEGIN:VEVENT
DTSTART;TZID=Europe/Vienna:20250111T140000
DTEND;TZID=Europe/Vienna:20250111T170000
DTSTAMP:20260420T191808
CREATED:20240905T154604Z
LAST-MODIFIED:20240905T154604Z
UID:783-1736604000-1736614800@www.salia-babenberg.org
SUMMARY:1. Generalversammlung
DESCRIPTION:s.t. plen. col. hoff.\nEinladung folgt
URL:https://www.salia-babenberg.org/event/1-generalversammlung/
END:VEVENT
BEGIN:VEVENT
DTSTART;TZID=Europe/Vienna:20250111T170000
DTEND;TZID=Europe/Vienna:20250111T200000
DTSTAMP:20260420T191808
CREATED:20240905T155631Z
LAST-MODIFIED:20240905T155631Z
UID:785-1736614800-1736625600@www.salia-babenberg.org
SUMMARY:Eiderneuerung
DESCRIPTION:plen. col. hoff.\nim Anschluss an die GV\nBude
URL:https://www.salia-babenberg.org/event/eiderneuerung-5/
END:VEVENT
END:VCALENDAR