BEGIN:VCALENDAR
VERSION:2.0
PRODID:-//C.St.V. Salia Babenberg in der VCS - ECPv6.10.1.1//NONSGML v1.0//EN
CALSCALE:GREGORIAN
METHOD:PUBLISH
X-ORIGINAL-URL:https://www.salia-babenberg.org
X-WR-CALDESC:Veranstaltungen für C.St.V. Salia Babenberg in der VCS
REFRESH-INTERVAL;VALUE=DURATION:PT1H
X-Robots-Tag:noindex
X-PUBLISHED-TTL:PT1H
BEGIN:VTIMEZONE
TZID:Europe/Vienna
BEGIN:DAYLIGHT
TZOFFSETFROM:+0100
TZOFFSETTO:+0200
TZNAME:CEST
DTSTART:20250330T010000
END:DAYLIGHT
BEGIN:STANDARD
TZOFFSETFROM:+0200
TZOFFSETTO:+0100
TZNAME:CET
DTSTART:20251026T010000
END:STANDARD
END:VTIMEZONE
BEGIN:VEVENT
DTSTART;TZID=Europe/Vienna:20250110T180000
DTEND;TZID=Europe/Vienna:20250110T220000
DTSTAMP:20260420T191726
CREATED:20240905T154540Z
LAST-MODIFIED:20240905T154540Z
UID:781-1736532000-1736546400@www.salia-babenberg.org
SUMMARY:Begrüßungsabend und Besuch der Violette Redoute
DESCRIPTION:c.t. plen. col. ad lib.\nSektempfang mit anschließendem\nBesuch der Violette Redoute\nTreffpunkt: Bude
URL:https://www.salia-babenberg.org/event/begruessungsabend-und-besuch-der-violette-redoute/
END:VEVENT
END:VCALENDAR