BEGIN:VCALENDAR
VERSION:2.0
PRODID:-//C.St.V. Salia Babenberg in der VCS - ECPv6.10.1.1//NONSGML v1.0//EN
CALSCALE:GREGORIAN
METHOD:PUBLISH
X-ORIGINAL-URL:https://www.salia-babenberg.org
X-WR-CALDESC:Veranstaltungen für C.St.V. Salia Babenberg in der VCS
REFRESH-INTERVAL;VALUE=DURATION:PT1H
X-Robots-Tag:noindex
X-PUBLISHED-TTL:PT1H
BEGIN:VTIMEZONE
TZID:Europe/Vienna
BEGIN:DAYLIGHT
TZOFFSETFROM:+0100
TZOFFSETTO:+0200
TZNAME:CEST
DTSTART:20240331T010000
END:DAYLIGHT
BEGIN:STANDARD
TZOFFSETFROM:+0200
TZOFFSETTO:+0100
TZNAME:CET
DTSTART:20241027T010000
END:STANDARD
END:VTIMEZONE
BEGIN:VEVENT
DTSTART;TZID=Europe/Vienna:20241005T193000
DTEND;TZID=Europe/Vienna:20241005T193000
DTSTAMP:20260421T032950
CREATED:20240905T153213Z
LAST-MODIFIED:20240905T153216Z
UID:763-1728156600-1728156600@www.salia-babenberg.org
SUMMARY:Antrittskreuzkneipe mit KAV Danubia Wien-Korneuburg
DESCRIPTION:Bude Danubiae – Rathausstraße 13\,\n1010 Wien
URL:https://www.salia-babenberg.org/event/antrittskreuzkneipe-mit-kav-danubia-wien-korneuburg/
LOCATION:Bude Danubiae\, Rathausstraße 13\, Wien\, 1010\, Austria
END:VEVENT
END:VCALENDAR