BEGIN:VCALENDAR
VERSION:2.0
PRODID:-//C.St.V. Salia Babenberg in der VCS - ECPv6.10.1.1//NONSGML v1.0//EN
CALSCALE:GREGORIAN
METHOD:PUBLISH
X-WR-CALNAME:C.St.V. Salia Babenberg in der VCS
X-ORIGINAL-URL:https://www.salia-babenberg.org
X-WR-CALDESC:Veranstaltungen für C.St.V. Salia Babenberg in der VCS
REFRESH-INTERVAL;VALUE=DURATION:PT1H
X-Robots-Tag:noindex
X-PUBLISHED-TTL:PT1H
BEGIN:VTIMEZONE
TZID:Europe/Vienna
BEGIN:DAYLIGHT
TZOFFSETFROM:+0100
TZOFFSETTO:+0200
TZNAME:CEST
DTSTART:20230326T010000
END:DAYLIGHT
BEGIN:STANDARD
TZOFFSETFROM:+0200
TZOFFSETTO:+0100
TZNAME:CET
DTSTART:20231029T010000
END:STANDARD
END:VTIMEZONE
BEGIN:VEVENT
DTSTART;VALUE=DATE:20231117
DTEND;VALUE=DATE:20231120
DTSTAMP:20260423T163638
CREATED:20230917T105747Z
LAST-MODIFIED:20230917T105747Z
UID:729-1700179200-1700438399@www.salia-babenberg.org
SUMMARY:Stiftungsfest e.v. KHV Babenberg Wien
DESCRIPTION:plen.col.\, off.
URL:https://www.salia-babenberg.org/event/stiftungsfest-e-v-khv-babenberg-wien-2/
CATEGORIES:off.,plen.col.
END:VEVENT
END:VCALENDAR