BEGIN:VCALENDAR
VERSION:2.0
PRODID:-//C.St.V. Salia Babenberg in der VCS - ECPv6.10.1.1//NONSGML v1.0//EN
CALSCALE:GREGORIAN
METHOD:PUBLISH
X-ORIGINAL-URL:https://www.salia-babenberg.org
X-WR-CALDESC:Veranstaltungen für C.St.V. Salia Babenberg in der VCS
REFRESH-INTERVAL;VALUE=DURATION:PT1H
X-Robots-Tag:noindex
X-PUBLISHED-TTL:PT1H
BEGIN:VTIMEZONE
TZID:Europe/Vienna
BEGIN:DAYLIGHT
TZOFFSETFROM:+0100
TZOFFSETTO:+0200
TZNAME:CEST
DTSTART:20230326T010000
END:DAYLIGHT
BEGIN:STANDARD
TZOFFSETFROM:+0200
TZOFFSETTO:+0100
TZNAME:CET
DTSTART:20231029T010000
END:STANDARD
END:VTIMEZONE
BEGIN:VEVENT
DTSTART;TZID=Europe/Vienna:20231111T190000
DTEND;TZID=Europe/Vienna:20231111T230000
DTSTAMP:20260423T163043
CREATED:20230917T105715Z
LAST-MODIFIED:20230917T105715Z
UID:739-1699729200-1699743600@www.salia-babenberg.org
SUMMARY:Faschings-Fuchsenparty mit e.v. K.a.V. Danubia Wien
DESCRIPTION:plen.col.\, off.
URL:https://www.salia-babenberg.org/event/faschings-fuchsenparty-mit-e-v-k-a-v-danubia-wien/
LOCATION:Bude Danubiae\, Rathausstraße 13\, Wien\, 1010\, Austria
CATEGORIES:off.,plen.col.
END:VEVENT
END:VCALENDAR