BEGIN:VCALENDAR
VERSION:2.0
PRODID:-//C.St.V. Salia Babenberg in der VCS - ECPv6.10.1.1//NONSGML v1.0//EN
CALSCALE:GREGORIAN
METHOD:PUBLISH
X-WR-CALNAME:C.St.V. Salia Babenberg in der VCS
X-ORIGINAL-URL:https://www.salia-babenberg.org
X-WR-CALDESC:Veranstaltungen für C.St.V. Salia Babenberg in der VCS
REFRESH-INTERVAL;VALUE=DURATION:PT1H
X-Robots-Tag:noindex
X-PUBLISHED-TTL:PT1H
BEGIN:VTIMEZONE
TZID:Europe/Vienna
BEGIN:DAYLIGHT
TZOFFSETFROM:+0100
TZOFFSETTO:+0200
TZNAME:CEST
DTSTART:20230326T010000
END:DAYLIGHT
BEGIN:STANDARD
TZOFFSETFROM:+0200
TZOFFSETTO:+0100
TZNAME:CET
DTSTART:20231029T010000
END:STANDARD
END:VTIMEZONE
BEGIN:VEVENT
DTSTART;TZID=Europe/Vienna:20230422T110000
DTEND;TZID=Europe/Vienna:20230422T133000
DTSTAMP:20260424T012849
CREATED:20230303T115434Z
LAST-MODIFIED:20230303T115448Z
UID:674-1682161200-1682170200@www.salia-babenberg.org
SUMMARY:Jubel-Brunch
DESCRIPTION:
URL:https://www.salia-babenberg.org/event/jubel-brunch/
LOCATION:Café Merkur\, Florianigasse 18\, Wien\, 1080\, Austria
CATEGORIES:ad.lib.,sin. col.
END:VEVENT
BEGIN:VEVENT
DTSTART;TZID=Europe/Vienna:20230422T133000
DTEND;TZID=Europe/Vienna:20230422T170000
DTSTAMP:20260424T012849
CREATED:20230303T115555Z
LAST-MODIFIED:20230303T115555Z
UID:677-1682170200-1682182800@www.salia-babenberg.org
SUMMARY:Führung durch die Schatzkammer
DESCRIPTION:
URL:https://www.salia-babenberg.org/event/fuehrung-durch-die-schatzkammer/
LOCATION:Hofburg\, Schweizerhof\, 1010
CATEGORIES:off.,plen.col.
END:VEVENT
BEGIN:VEVENT
DTSTART;TZID=Europe/Vienna:20230422T190000
DTEND;TZID=Europe/Vienna:20230422T230000
DTSTAMP:20260424T012849
CREATED:20230303T114957Z
LAST-MODIFIED:20230303T114957Z
UID:666-1682190000-1682204400@www.salia-babenberg.org
SUMMARY:40. Stiftungsfest
DESCRIPTION:
URL:https://www.salia-babenberg.org/event/40-stiftungsfest/
LOCATION:Kuppelsaal TU Wien\, Resselgasse\, Wien\, 1040\, Austria
CATEGORIES:hoff.,plen.col.
END:VEVENT
END:VCALENDAR