BEGIN:VCALENDAR
VERSION:2.0
PRODID:-//C.St.V. Salia Babenberg in der VCS - ECPv6.10.1.1//NONSGML v1.0//EN
CALSCALE:GREGORIAN
METHOD:PUBLISH
X-WR-CALNAME:C.St.V. Salia Babenberg in der VCS
X-ORIGINAL-URL:https://www.salia-babenberg.org
X-WR-CALDESC:Veranstaltungen für C.St.V. Salia Babenberg in der VCS
REFRESH-INTERVAL;VALUE=DURATION:PT1H
X-Robots-Tag:noindex
X-PUBLISHED-TTL:PT1H
BEGIN:VTIMEZONE
TZID:Europe/Vienna
BEGIN:DAYLIGHT
TZOFFSETFROM:+0100
TZOFFSETTO:+0200
TZNAME:CEST
DTSTART:20230326T010000
END:DAYLIGHT
BEGIN:STANDARD
TZOFFSETFROM:+0200
TZOFFSETTO:+0100
TZNAME:CET
DTSTART:20231029T010000
END:STANDARD
END:VTIMEZONE
BEGIN:VEVENT
DTSTART;TZID=Europe/Vienna:20230421T180000
DTEND;TZID=Europe/Vienna:20230421T190000
DTSTAMP:20260424T012843
CREATED:20230303T115234Z
LAST-MODIFIED:20230303T115234Z
UID:670-1682100000-1682103600@www.salia-babenberg.org
SUMMARY:Ökumenischer Wortgottesdienst
DESCRIPTION:
URL:https://www.salia-babenberg.org/event/oekumenischer-wortgottesdienst/
LOCATION:Lutherische Stadtkirche\, Wien\, Austria
CATEGORIES:off.,plen.col.
END:VEVENT
BEGIN:VEVENT
DTSTART;TZID=Europe/Vienna:20230421T190000
DTEND;TZID=Europe/Vienna:20230421T190000
DTSTAMP:20260424T012843
CREATED:20230303T115321Z
LAST-MODIFIED:20230303T115321Z
UID:672-1682103600-1682103600@www.salia-babenberg.org
SUMMARY:Begrüßungsabend
DESCRIPTION:
URL:https://www.salia-babenberg.org/event/begruessungsabend-3/
LOCATION:Bude Danubiae\, Rathausstraße 13\, Wien\, 1010\, Austria
CATEGORIES:off.,plen.col.
END:VEVENT
END:VCALENDAR