BEGIN:VCALENDAR
VERSION:2.0
PRODID:-//C.St.V. Salia Babenberg in der VCS - ECPv6.10.1.1//NONSGML v1.0//EN
CALSCALE:GREGORIAN
METHOD:PUBLISH
X-WR-CALNAME:C.St.V. Salia Babenberg in der VCS
X-ORIGINAL-URL:https://www.salia-babenberg.org
X-WR-CALDESC:Veranstaltungen für C.St.V. Salia Babenberg in der VCS
REFRESH-INTERVAL;VALUE=DURATION:PT1H
X-Robots-Tag:noindex
X-PUBLISHED-TTL:PT1H
BEGIN:VTIMEZONE
TZID:Europe/Vienna
BEGIN:DAYLIGHT
TZOFFSETFROM:+0100
TZOFFSETTO:+0200
TZNAME:CEST
DTSTART:20220327T010000
END:DAYLIGHT
BEGIN:STANDARD
TZOFFSETFROM:+0200
TZOFFSETTO:+0100
TZNAME:CET
DTSTART:20221030T010000
END:STANDARD
END:VTIMEZONE
BEGIN:VEVENT
DTSTART;TZID=Europe/Vienna:20220930T193000
DTEND;TZID=Europe/Vienna:20220930T230000
DTSTAMP:20260424T081530
CREATED:20220917T075339Z
LAST-MODIFIED:20220917T075339Z
UID:588-1664566200-1664578800@www.salia-babenberg.org
SUMMARY:Kreuzkneipe mit e.v. A.V. Austria-Sagitta
DESCRIPTION:
URL:https://www.salia-babenberg.org/event/kreuzkneipe-mit-e-v-a-v-austria-sagitta/
LOCATION:Bude A.V. Austria-Sagitta\, Lerchenfelder Straße 14/8\, Wien\, 1080\, Austria
CATEGORIES:off.,plen.col.
END:VEVENT
END:VCALENDAR