BEGIN:VCALENDAR
VERSION:2.0
PRODID:-//C.St.V. Salia Babenberg in der VCS - ECPv6.10.1.1//NONSGML v1.0//EN
CALSCALE:GREGORIAN
METHOD:PUBLISH
X-WR-CALNAME:C.St.V. Salia Babenberg in der VCS
X-ORIGINAL-URL:https://www.salia-babenberg.org
X-WR-CALDESC:Veranstaltungen für C.St.V. Salia Babenberg in der VCS
REFRESH-INTERVAL;VALUE=DURATION:PT1H
X-Robots-Tag:noindex
X-PUBLISHED-TTL:PT1H
BEGIN:VTIMEZONE
TZID:Europe/Vienna
BEGIN:DAYLIGHT
TZOFFSETFROM:+0100
TZOFFSETTO:+0200
TZNAME:CEST
DTSTART:20220327T010000
END:DAYLIGHT
BEGIN:STANDARD
TZOFFSETFROM:+0200
TZOFFSETTO:+0100
TZNAME:CET
DTSTART:20221030T010000
END:STANDARD
END:VTIMEZONE
BEGIN:VEVENT
DTSTART;TZID=Europe/Vienna:20220609T190000
DTEND;TZID=Europe/Vienna:20220609T190000
DTSTAMP:20260426T044012
CREATED:20220217T182954Z
LAST-MODIFIED:20220217T182954Z
UID:571-1654801200-1654801200@www.salia-babenberg.org
SUMMARY:3. o. VC.
DESCRIPTION:
URL:https://www.salia-babenberg.org/event/3-o-vc-4/
LOCATION:Bude Saliae\, Volksgartenstraße 5/2/5\, Wien\, 1010\, Austria
END:VEVENT
END:VCALENDAR